BEGIN:VCALENDAR
VERSION:2.0
PRODID:-//wp-events-plugin.com//7.2.3.1//EN
TZID:America/New_York
X-WR-TIMEZONE:America/New_York
BEGIN:VEVENT
UID:6371@monktonvt.com
DTSTART;TZID=America/New_York:20250322T100000
DTEND;TZID=America/New_York:20250322T120000
DTSTAMP:20250220T031221Z
URL:https://monktonvt.com/events/community-meeting-town-forest-management-
 plan-2/
SUMMARY:Community Meeting - Town Forest Management Plan
DESCRIPTION:Join the Town Forest Committee for an overview and discussion o
 f the Town Forest Management Plan. The plan describes the land\, allowed a
 nd restricted uses\, trails\, management priorities\, and the like. The Co
 mmittee gathered feedback from the community in a survey and series of mee
 tings in Fall 2024 and is finishing a final draft of the management plan t
 o reflect those priorities. The next step will be gathering feedback from 
 the community on that resulting plan before seeking final approval from th
 e Selectboard and the conservation easement holders. Two community meeting
 s will be held\, on Wednesday 3/19 at 7:00pm and on Saturday 3/22 at 10:00
 am\, covering the same overview/topics.\n\nZoom link:\n\nhttps://us02web.z
 oom.us/j/8024533800?pwd=QnlTb20weWwxTEhuSmZ2RENyR3ZzUT09\n\nAlternatives t
 o the link: go to zoom.us on a web browser (or open your Zoom app) and s
 elect Join Meeting or if joining by phone call (646)558-8656. Enter the m
 eeting ID: 802 453 3800 and passcode 1762.
CATEGORIES:Meeting
LOCATION:Town Hall & Zoom\, 92 Monkton Ridge\, Monkton\, VT\, 05469\, Unite
 d States
X-APPLE-STRUCTURED-LOCATION;VALUE=URI;X-ADDRESS=92 Monkton Ridge\, Monkton\
 , VT\, 05469\, United States;X-APPLE-RADIUS=100;X-TITLE=Town Hall & Zoom:g
 eo:0,0
END:VEVENT
BEGIN:VTIMEZONE
TZID:America/New_York
X-LIC-LOCATION:America/New_York
BEGIN:DAYLIGHT
DTSTART:20250309T030000
TZOFFSETFROM:-0500
TZOFFSETTO:-0400
TZNAME:EDT
END:DAYLIGHT
END:VTIMEZONE
END:VCALENDAR