BEGIN:VCALENDAR
VERSION:2.0
PRODID:-//wp-events-plugin.com//7.2.3.1//EN
TZID:America/New_York
X-WR-TIMEZONE:America/New_York
BEGIN:VEVENT
UID:6588@monktonvt.com
DTSTART;TZID=America/New_York:20260425T090000
DTEND;TZID=America/New_York:20260425T100000
DTSTAMP:20260325T154533Z
URL:https://monktonvt.com/events/community-room-weekend-yoga-11/
SUMMARY:Community Room - Weekend YOGA
DESCRIPTION:Host: Laurel Kelly and Catherine Goldsmith
END:VEVENT
BEGIN:VTIMEZONE
TZID:America/New_York
X-LIC-LOCATION:America/New_York
BEGIN:DAYLIGHT
DTSTART:20260308T030000
TZOFFSETFROM:-0500
TZOFFSETTO:-0400
TZNAME:EDT
END:DAYLIGHT
END:VTIMEZONE
END:VCALENDAR