BEGIN:VCALENDAR
VERSION:2.0
PRODID:-//wp-events-plugin.com//7.2.3.1//EN
TZID:America/New_York
X-WR-TIMEZONE:America/New_York
BEGIN:VEVENT
UID:5586@monktonvt.com
DTSTART;TZID=America/New_York:20270823T193000
DTEND;TZID=America/New_York:20270823T210000
DTSTAMP:20240214T135251Z
URL:https://monktonvt.com/events/development-review-board-2-2027-08-23/
SUMMARY:Development Review Board
DESCRIPTION:Zoom link:\n\nhttps://us02web.zoom.us/j/8024533800?pwd=QnlTb20w
 eWwxTEhuSmZ2RENyR3ZzUT09\n\nAlternatives to the link: go to zoom.us on a
  web browser (or open your Zoom app) and select Join Meeting or if joining
  by phone call (646)558-8656. Enter the meeting ID: 802 453 3800 and pass
 code 1762.
CATEGORIES:Meeting
LOCATION:Monkton Town Hall\, 92 Monkton Ridge\, Monkton\, VT\, United State
 s
X-APPLE-STRUCTURED-LOCATION;VALUE=URI;X-ADDRESS=92 Monkton Ridge\, Monkton\
 , VT\, United States;X-APPLE-RADIUS=100;X-TITLE=Monkton Town Hall:geo:0,0
END:VEVENT
BEGIN:VTIMEZONE
TZID:America/New_York
X-LIC-LOCATION:America/New_York
BEGIN:DAYLIGHT
DTSTART:20270314T030000
TZOFFSETFROM:-0500
TZOFFSETTO:-0400
TZNAME:EDT
END:DAYLIGHT
END:VTIMEZONE
END:VCALENDAR