BEGIN:VCALENDAR
VERSION:2.0
PRODID:-//wp-events-plugin.com//7.2.3.1//EN
TZID:America/New_York
X-WR-TIMEZONE:America/New_York
BEGIN:VEVENT
UID:5988@monktonvt.com
DTSTART;TZID=America/New_York:20260618T190000
DTEND;TZID=America/New_York:20260618T203000
DTSTAMP:20260316T133520Z
URL:https://monktonvt.com/events/monkton-energy-committee-meeting-2026-06-
 18/
SUMMARY:Monkton Energy Committee Meeting
DESCRIPTION:
LOCATION:Monkton Town Hall\, 92 Monkton Ridge\, Monkton\, VT\, United State
 s
X-APPLE-STRUCTURED-LOCATION;VALUE=URI;X-ADDRESS=92 Monkton Ridge\, Monkton\
 , VT\, United States;X-APPLE-RADIUS=100;X-TITLE=Monkton Town Hall:geo:0,0
END:VEVENT
BEGIN:VTIMEZONE
TZID:America/New_York
X-LIC-LOCATION:America/New_York
BEGIN:DAYLIGHT
DTSTART:20260308T030000
TZOFFSETFROM:-0500
TZOFFSETTO:-0400
TZNAME:EDT
END:DAYLIGHT
END:VTIMEZONE
END:VCALENDAR