BEGIN:VCALENDAR
VERSION:2.0
PRODID:-//wp-events-plugin.com//7.2.3.1//EN
TZID:America/New_York
X-WR-TIMEZONE:America/New_York
BEGIN:VEVENT
UID:1939@monktonvt.com
DTSTART;TZID=America/New_York:20291119T190000
DTEND;TZID=America/New_York:20291119T203000
DTSTAMP:20260316T133547Z
URL:https://monktonvt.com/events/monkton-museum-and-historical-society-mee
 ting-2029-11-19/
SUMMARY:Monkton Museum and Historical Society Meeting
DESCRIPTION:
CATEGORIES:Meeting
LOCATION:Monkton Town Hall\, 92 Monkton Ridge\, Monkton\, VT\, United State
 s
X-APPLE-STRUCTURED-LOCATION;VALUE=URI;X-ADDRESS=92 Monkton Ridge\, Monkton\
 , VT\, United States;X-APPLE-RADIUS=100;X-TITLE=Monkton Town Hall:geo:0,0
END:VEVENT
BEGIN:VTIMEZONE
TZID:America/New_York
X-LIC-LOCATION:America/New_York
BEGIN:STANDARD
DTSTART:20291104T010000
TZOFFSETFROM:-0400
TZOFFSETTO:-0500
TZNAME:EST
END:STANDARD
END:VTIMEZONE
END:VCALENDAR