BEGIN:VCALENDAR
VERSION:2.0
PRODID:-//wp-events-plugin.com//7.2.3.1//EN
TZID:America/New_York
X-WR-TIMEZONE:America/New_York
BEGIN:VEVENT
UID:2944@monktonvt.com
DTSTART;TZID=America/New_York:20350206T190000
DTEND;TZID=America/New_York:20350206T210000
DTSTAMP:20260316T133304Z
URL:https://monktonvt.com/events/mpc-monkton-planning-commission-2-2035-02
 -06/
SUMMARY:MPC Monkton Planning Commission
DESCRIPTION:&nbsp\;\n\nThe Monkton Planning Commission meets on the 1st and
  3rd Tuesdays of each month at 7:00 p.m.\n\nHybrid Meeting: Community Room
  at Town Hall 92 Monkton Ridge\, Monkton\, VT.\, and\nZoom Meeting ID 802-
 453-3800 Password 1762\nTelephone Number to attend meeting by phone 646-55
 8-8656\nhttps://us02web.zoom.us/j/8024533800?pwd=QnlTb20weWwxTEhuSmZ2RENyR
 3ZzUT09\n\n&nbsp\;\n\n&nbsp\;
CATEGORIES:Meeting
LOCATION:Community Room at Town Hall\, 92 Monkton Ridge      \, Monkton\, V
 T\, United States
X-APPLE-STRUCTURED-LOCATION;VALUE=URI;X-ADDRESS=92 Monkton Ridge      \, Mo
 nkton\, VT\, United States;X-APPLE-RADIUS=100;X-TITLE=Community Room at To
 wn Hall:geo:0,0
END:VEVENT
BEGIN:VTIMEZONE
TZID:America/New_York
X-LIC-LOCATION:America/New_York
BEGIN:STANDARD
DTSTART:20341105T010000
TZOFFSETFROM:-0400
TZOFFSETTO:-0500
TZNAME:EST
END:STANDARD
END:VTIMEZONE
END:VCALENDAR