BEGIN:VCALENDAR
VERSION:2.0
PRODID:-//wp-events-plugin.com//7.2.3.1//EN
TZID:America/New_York
X-WR-TIMEZONE:America/New_York
BEGIN:VEVENT
UID:2567@monktonvt.com
DTSTART;TZID=America/New_York:20291120T000000
DTEND;TZID=America/New_York:20291120T000000
DTSTAMP:20260316T133455Z
URL:https://monktonvt.com/events/mpc-monkton-planning-commission-2029-11-2
 0/
SUMMARY:MPC Monkton Planning Commission
DESCRIPTION:The Monkton Planning Commission meets on the 1st and 3rd Tuesda
 ys of each month at 7:00 p.m.\n\nHybrid Meeting: Community Room at Town Ha
 ll 92 Monkton Ridge\, Monkton\, VT.\, and\nZoom Meeting ID 802-453-3800 Pa
 ssword 1762\nTelephone Number to attend meeting by phone 646-558-8656\nhtt
 ps://us02web.zoom.us/j/8024533800?pwd=QnlTb20weWwxTEhuSmZ2RENyR3ZzUT09
CATEGORIES:Meeting
LOCATION:Community Room at Town Hall\, 92 Monkton Ridge\, Monkton\, VT\, Un
 ited States
X-APPLE-STRUCTURED-LOCATION;VALUE=URI;X-ADDRESS=92 Monkton Ridge\, Monkton\
 , VT\, United States;X-APPLE-RADIUS=100;X-TITLE=Community Room at Town Hal
 l:geo:0,0
END:VEVENT
BEGIN:VTIMEZONE
TZID:America/New_York
X-LIC-LOCATION:America/New_York
BEGIN:STANDARD
DTSTART:20291104T010000
TZOFFSETFROM:-0400
TZOFFSETTO:-0500
TZNAME:EST
END:STANDARD
END:VTIMEZONE
END:VCALENDAR