BEGIN:VCALENDAR
VERSION:2.0
PRODID:-//wp-events-plugin.com//7.2.3.1//EN
TZID:America/New_York
X-WR-TIMEZONE:America/New_York
BEGIN:VEVENT
UID:3700@monktonvt.com
DTSTART;TZID=America/New_York:20450923T090000
DTEND;TZID=America/New_York:20450923T120000
DTSTAMP:20260316T133439Z
URL:https://monktonvt.com/events/recycling-2-2045-09-23/
SUMMARY:Recycling
DESCRIPTION:Recycling drop off at the town recycling center on States Priso
 n Hollow Road
CATEGORIES:Community
LOCATION:Monkton Recycling Center\, States Prison Hollow Rd\, Monkton\, VT\
 , United States
X-APPLE-STRUCTURED-LOCATION;VALUE=URI;X-ADDRESS=States Prison Hollow Rd\, M
 onkton\, VT\, United States;X-APPLE-RADIUS=100;X-TITLE=Monkton Recycling C
 enter:geo:0,0
END:VEVENT
BEGIN:VTIMEZONE
TZID:America/New_York
X-LIC-LOCATION:America/New_York
BEGIN:DAYLIGHT
DTSTART:20450312T030000
TZOFFSETFROM:-0500
TZOFFSETTO:-0400
TZNAME:EDT
END:DAYLIGHT
END:VTIMEZONE
END:VCALENDAR