BEGIN:VCALENDAR
VERSION:2.0
PRODID:-//wp-events-plugin.com//7.2.3.1//EN
TZID:America/New_York
X-WR-TIMEZONE:America/New_York
BEGIN:VEVENT
UID:6607@monktonvt.com
DTSTART;TZID=America/New_York:20260425T100000
DTEND;TZID=America/New_York:20260425T150000
DTSTAMP:20260401T171703Z
URL:https://monktonvt.com/events/vermont-folklife-center-fellowship/
SUMMARY:Vermont Folklife Center Fellowship
DESCRIPTION:Host: Lauren Parren
END:VEVENT
BEGIN:VTIMEZONE
TZID:America/New_York
X-LIC-LOCATION:America/New_York
BEGIN:DAYLIGHT
DTSTART:20260308T030000
TZOFFSETFROM:-0500
TZOFFSETTO:-0400
TZNAME:EDT
END:DAYLIGHT
END:VTIMEZONE
END:VCALENDAR